BEGIN:VCALENDAR
VERSION:2.0
METHOD:PUBLISH
CALSCALE:GREGORIAN
PRODID:-//WordPress - MECv7.29.0//EN
X-ORIGINAL-URL:https://bologna.avisemiliaromagna.it/
X-WR-CALNAME:AVIS Provinciale Bologna
X-WR-CALDESC:
X-WR-TIMEZONE:Europe/Rome
BEGIN:VTIMEZONE
TZID:Europe/Rome
X-LIC-LOCATION:Europe/Rome
BEGIN:DAYLIGHT
TZOFFSETFROM:+0100
TZOFFSETTO:+0200
TZNAME:CEST
DTSTART:20260329T030000
RRULE:FREQ=YEARLY;BYMONTH=03;BYDAY=-1SU
END:DAYLIGHT
BEGIN:STANDARD
TZOFFSETFROM:+0200
TZOFFSETTO:+0100
TZNAME:CET
DTSTART:20261025T020000
RRULE:FREQ=YEARLY;BYMONTH=10;BYDAY=4SU
END:STANDARD
END:VTIMEZONE
REFRESH-INTERVAL;VALUE=DURATION:PT1H
X-PUBLISHED-TTL:PT1H
X-MS-OLK-FORCEINSPECTOROPEN:TRUE
BEGIN:VEVENT
CLASS:PUBLIC
UID:MEC-8f253a13d30c2ed76d6c5aeec8619aa2@bologna.avisemiliaromagna.it
DTSTART;TZID=Europe/Rome:20260430T190000
DTEND;TZID=Europe/Rome:20260430T220000
DTSTAMP:20260422T141825Z
CREATED:20260422
LAST-MODIFIED:20260422
PRIORITY:5
SEQUENCE:1
TRANSP:OPAQUE
SUMMARY:Avis e Scuole in Concerto
DESCRIPTION:L’Avis Comunale di Bologna, torna anche quest’anno con l’evento “AVIS e Scuola in concerto”. L’iniziativa si terrà Giovedì 30 aprile 2026 alle ore 19,00 presso il Teatro “Celebrazioni”, in via Saragozza 234 a Bologna.\nIl concerto, con ingresso gratuito ad offerta libera, si inserisce all’interno dell’attività Avis di promozione del dono del sangue volontario e gratuito rivolta alle scuole secondarie di I° e II° grado e nasce dalla consapevolezza che l’incontro con la musica provoca un intenso interesse tra i ragazzi.\nPer la realizzazione del concerto sono stati coinvolti gli allievi del corso di musica delle scuole di Bologna e provincia. Si esibiranno i ragazzi dell’ IC 16 Guido Reni (Bologna), IC Centro di Casalecchio di Reno e la scuola di musica della banda Bignardi di Monzuno. \nQui il programma del concerto: Programma Avis e Scuole in Concerto .\nSarà questa un’occasione per stare insieme e per dare valore all’attività dei ragazzi, nella speranza di poter sensibilizzare ragazzi e genitori tra il pubblico sull’importanza del dono del sangue e del plasma, a servizio di tutti quei pazienti che ogni giorno ne hanno bisogno.\n
URL:https://bologna.avisemiliaromagna.it/calendario-bologna/avis-e-scuole-in-concerto-2/
CATEGORIES:Eventi a Bologna
LOCATION:Teatro Celebrazioni @ Via Saragozza, 234, 40135 Bologna BO, Italia
ATTACH;FMTTYPE=image/jpeg:https://bologna.avisemiliaromagna.it/wp-content/uploads/2026/04/locandina-2026-avis-e-scuole-LOGHI.jpg
END:VEVENT
BEGIN:VEVENT
CLASS:PUBLIC
UID:MEC-f9511942fb791e7451c40c097993b164@bologna.avisemiliaromagna.it
DTSTART;TZID=Europe/Rome:20260522T100000
DTEND;TZID=Europe/Rome:20260524T180000
DTSTAMP:20260210T121334Z
CREATED:20260210
LAST-MODIFIED:20260210
PRIORITY:5
SEQUENCE:5
TRANSP:OPAQUE
SUMMARY:Avis alla StraBologna 2026
DESCRIPTION:Avis Comunale Bologna rinnova la partnership con StraBologna e sarà presente in Piazza Maggiore con un punto informativo e i propri volontari durante tutta la tre giorni della festa. Appuntamento con la camminata/corsa domenica 24 maggio 2026.\nStraBologna è molto più di un evento sportivo: è una grande festa cittadina che porta in piazza migliaia di persone, famiglie, gruppi di amici e sportivi di ogni età. Anche quest’anno Avis Comunale Bologna partecipa con entusiasmo, perché crediamo che promuovere movimento, benessere e sani stili di vita significhi creare le condizioni migliori per una comunità più sana e solidale — e per ricordare che donare sangue e plasma è un gesto semplice, concreto, fondamentale.\nAVIS in piazza: vieni a trovarci!\nDurante le tre giornate di StraBologna, i volontari Avis saranno presenti con un punto informativo in Piazza Maggiore: passa a salutarci, a fare due chiacchiere e scoprire tutto quello che c’è da sapere su donazione, idoneità, percorsi per diventare donatore/donatrice e sulle attività AVIS sul territorio.\nTi aspettiamo in piazza per condividere un messaggio che corre insieme alla città: se molti donano, il sangue c’è per tutti.\nStraBologna 2026: quando si corre/cammina\nIl momento clou sarà domenica 24 maggio 2026, con partenza alle ore 10:30. \nNel frattempo, la festa comincia già da venerdì e sabato in Piazza Maggiore, con stand, attività e animazione insieme ai partner dell’evento.\nPer tutti gli aggiornamenti (iscrizioni, info utili e programma), puoi consultare il sito ufficiale di StraBologna.\nTi aspettiamo in Piazza Maggiore: corri, cammina, divertiti… e corri a donare!\n
URL:https://bologna.avisemiliaromagna.it/calendario-bologna/avis-alla-strabologna-2026/
CATEGORIES:Eventi a Bologna
ATTACH;FMTTYPE=image/jpeg:https://bologna.avisemiliaromagna.it/wp-content/uploads/2026/02/immagine-evidenza-strabologna-avis.jpg
END:VEVENT
BEGIN:VEVENT
CLASS:PUBLIC
UID:MEC-5b63f3f68913d801426d67ac105e1558@bologna.avisemiliaromagna.it
DTSTART;TZID=Europe/Rome:20260608T063000
DTEND;TZID=Europe/Rome:20260610T193000
DTSTAMP:20260317T102015Z
CREATED:20260317
LAST-MODIFIED:20260317
PRIORITY:5
SEQUENCE:2
TRANSP:OPAQUE
SUMMARY:TOUR FRIULI VENEZIA GIULIA
DESCRIPTION:PROGRAMMA: https://bologna.avisemiliaromagna.it/wp-content/uploads/2026/03/FRIULI-VENEZIA-GIULIA-2026.pdf\nPER INFORMAZIONI E PRENOTAZIONI:\nAVIS COMUNALE IMOLA\nP.LE GIOVANNI DALLE BANDE NERE 11,\nTEL. 054232158 (FERIALI 8:30-12:30). E-MAIL: giovani.imola@avis.it\n
URL:https://bologna.avisemiliaromagna.it/calendario-bologna/tour-friuli-venezia-giulia/
CATEGORIES:Avis Imola
ATTACH;FMTTYPE=image/jpeg:https://bologna.avisemiliaromagna.it/wp-content/uploads/2026/03/friuli.jpg
END:VEVENT
END:VCALENDAR
